BEGIN:VCALENDAR
VERSION:2.0
PRODID:-//Way Finders - ECPv6.15.20//NONSGML v1.0//EN
CALSCALE:GREGORIAN
METHOD:PUBLISH
X-WR-CALNAME:Way Finders
X-ORIGINAL-URL:https://www.wayfinders.org
X-WR-CALDESC:Events for Way Finders
REFRESH-INTERVAL;VALUE=DURATION:PT1H
X-Robots-Tag:noindex
X-PUBLISHED-TTL:PT1H
BEGIN:VTIMEZONE
TZID:America/New_York
BEGIN:DAYLIGHT
TZOFFSETFROM:-0500
TZOFFSETTO:-0400
TZNAME:EDT
DTSTART:20230312T070000
END:DAYLIGHT
BEGIN:STANDARD
TZOFFSETFROM:-0400
TZOFFSETTO:-0500
TZNAME:EST
DTSTART:20231105T060000
END:STANDARD
BEGIN:DAYLIGHT
TZOFFSETFROM:-0500
TZOFFSETTO:-0400
TZNAME:EDT
DTSTART:20240310T070000
END:DAYLIGHT
BEGIN:STANDARD
TZOFFSETFROM:-0400
TZOFFSETTO:-0500
TZNAME:EST
DTSTART:20241103T060000
END:STANDARD
BEGIN:DAYLIGHT
TZOFFSETFROM:-0500
TZOFFSETTO:-0400
TZNAME:EDT
DTSTART:20250309T070000
END:DAYLIGHT
BEGIN:STANDARD
TZOFFSETFROM:-0400
TZOFFSETTO:-0500
TZNAME:EST
DTSTART:20251102T060000
END:STANDARD
BEGIN:DAYLIGHT
TZOFFSETFROM:-0500
TZOFFSETTO:-0400
TZNAME:EDT
DTSTART:20260308T070000
END:DAYLIGHT
BEGIN:STANDARD
TZOFFSETFROM:-0400
TZOFFSETTO:-0500
TZNAME:EST
DTSTART:20261101T060000
END:STANDARD
END:VTIMEZONE
BEGIN:VEVENT
DTSTART;TZID=America/New_York:20250621T090000
DTEND;TZID=America/New_York:20250621T140000
DTSTAMP:20260421T054018
CREATED:20250515T204714Z
LAST-MODIFIED:20250528T172336Z
UID:10000290-1750496400-1750514400@www.wayfinders.org
SUMMARY:Junio clases para compradores de casa por primera vez de Way Finders
DESCRIPTION:
URL:https://www.wayfinders.org/event/junio-clases-para-compradores-de-casa-por-primera-vez-de-way-finders-2/
LOCATION:Library Commons\, Holyoke\, 210 Elm Street\, Holyoke\, MA\, 01040\, United States
CATEGORIES:Home Ownership,Workshops
ATTACH;FMTTYPE=image/jpeg:https://www.wayfinders.org/wp-content/uploads/2025/05/IMG_0490-aspect-ratio-285-285.jpg
END:VEVENT
BEGIN:VEVENT
DTSTART;TZID=America/New_York:20241126T170000
DTEND;TZID=America/New_York:20241126T193000
DTSTAMP:20260421T054018
CREATED:20241121T222214Z
LAST-MODIFIED:20241126T142707Z
UID:10000268-1732640400-1732649400@www.wayfinders.org
SUMMARY:Creando Unidad en la Comunidad: Una academia de liderazgo para residentes de Holyoke
DESCRIPTION:
URL:https://www.wayfinders.org/event/creando-unidad-en-la-comunidad-una-academia-de-liderazgo-para-residentes-de-holyoke/
LOCATION:Library Commons\, Holyoke\, 210 Elm Street\, Holyoke\, MA\, 01040\, United States
CATEGORIES:Community Engagement
ATTACH;FMTTYPE=image/png:https://www.wayfinders.org/wp-content/uploads/2024/11/Spanish-language-RLP-image-2-aspect-ratio-285-285.png
ORGANIZER;CN="Anna Cruz%2C Way Finders":MAILTO:acruz@wayfinders.org
END:VEVENT
BEGIN:VEVENT
DTSTART;TZID=America/New_York:20241005T090000
DTEND;TZID=America/New_York:20241005T140000
DTSTAMP:20260421T054018
CREATED:20240910T195139Z
LAST-MODIFIED:20240910T195738Z
UID:10000257-1728118800-1728136800@www.wayfinders.org
SUMMARY:Octubre clases para compradores de casa por primera vez de Way Finders
DESCRIPTION:
URL:https://www.wayfinders.org/event/octubre-clases-para-compradores-de-casa-por-primera-vez-de-way-finders/
LOCATION:Library Commons\, Holyoke\, 210 Elm Street\, Holyoke\, MA\, 01040\, United States
CATEGORIES:Home Ownership,Workshops
ATTACH;FMTTYPE=image/jpeg:https://www.wayfinders.org/wp-content/uploads/2024/09/properties-intro-aspect-ratio-285-285-1.jpg
END:VEVENT
END:VCALENDAR