BEGIN:VCALENDAR
VERSION:2.0
PRODID:-//Way Finders - ECPv6.15.20//NONSGML v1.0//EN
CALSCALE:GREGORIAN
METHOD:PUBLISH
X-WR-CALNAME:Way Finders
X-ORIGINAL-URL:https://www.wayfinders.org
X-WR-CALDESC:Events for Way Finders
REFRESH-INTERVAL;VALUE=DURATION:PT1H
X-Robots-Tag:noindex
X-PUBLISHED-TTL:PT1H
BEGIN:VTIMEZONE
TZID:America/New_York
BEGIN:DAYLIGHT
TZOFFSETFROM:-0500
TZOFFSETTO:-0400
TZNAME:EDT
DTSTART:20230312T070000
END:DAYLIGHT
BEGIN:STANDARD
TZOFFSETFROM:-0400
TZOFFSETTO:-0500
TZNAME:EST
DTSTART:20231105T060000
END:STANDARD
BEGIN:DAYLIGHT
TZOFFSETFROM:-0500
TZOFFSETTO:-0400
TZNAME:EDT
DTSTART:20240310T070000
END:DAYLIGHT
BEGIN:STANDARD
TZOFFSETFROM:-0400
TZOFFSETTO:-0500
TZNAME:EST
DTSTART:20241103T060000
END:STANDARD
BEGIN:DAYLIGHT
TZOFFSETFROM:-0500
TZOFFSETTO:-0400
TZNAME:EDT
DTSTART:20250309T070000
END:DAYLIGHT
BEGIN:STANDARD
TZOFFSETFROM:-0400
TZOFFSETTO:-0500
TZNAME:EST
DTSTART:20251102T060000
END:STANDARD
END:VTIMEZONE
BEGIN:VEVENT
DTSTART;TZID=America/New_York:20241207T090000
DTEND;TZID=America/New_York:20241207T140000
DTSTAMP:20260421T040533
CREATED:20241113T182854Z
LAST-MODIFIED:20241113T182947Z
UID:10000267-1733562000-1733580000@www.wayfinders.org
SUMMARY:Diciembre clases para compradores de casa por primera vez de Way Finders
DESCRIPTION:
URL:https://www.wayfinders.org/event/diciembre-clases-para-compradores-de-casa-por-primera-vez-de-way-finders/
LOCATION:Seminario web
CATEGORIES:Home Ownership
ATTACH;FMTTYPE=image/jpeg:https://www.wayfinders.org/wp-content/uploads/2024/11/family-holding-paper-house-600x400-1-aspect-ratio-285-285.jpg
END:VEVENT
BEGIN:VEVENT
DTSTART;TZID=America/New_York:20240713T090000
DTEND;TZID=America/New_York:20240713T120000
DTSTAMP:20260421T040533
CREATED:20240606T151806Z
LAST-MODIFIED:20240606T151959Z
UID:10000192-1720861200-1720872000@www.wayfinders.org
SUMMARY:July Credit Success (Spanish)
DESCRIPTION:
URL:https://www.wayfinders.org/event/july-credit-success-spanish/
LOCATION:Seminario web
CATEGORIES:Employment Support
ATTACH;FMTTYPE=image/jpeg:https://www.wayfinders.org/wp-content/uploads/2024/06/adobestock_590580633-scaled-aspect-ratio-285-285.jpeg
END:VEVENT
BEGIN:VEVENT
DTSTART;TZID=America/New_York:20240315T180000
DTEND;TZID=America/New_York:20240315T200000
DTSTAMP:20260421T040533
CREATED:20240218T152539Z
LAST-MODIFIED:20240306T203727Z
UID:10000004-1710525600-1710532800@www.wayfinders.org
SUMMARY:Clases para Compradores de Casa por Primera Vez de Way Finders
DESCRIPTION:
URL:https://www.wayfinders.org/event/clases-para-compradores-de-casa-por-primera-vez-de-way-finders/
LOCATION:Seminario web
CATEGORIES:Workshops
ATTACH;FMTTYPE=image/jpeg:https://www.wayfinders.org/wp-content/uploads/2024/02/martaalvarez_02-aspect-ratio-285-285.jpg
END:VEVENT
END:VCALENDAR